Package: CCPlotR Version: 1.5.0 Command: /home/biocbuild/R/R/bin/R CMD build --keep-empty-dirs --no-resave-data CCPlotR StartedAt: 2025-01-28 21:37:00 -0000 (Tue, 28 Jan 2025) EndedAt: 2025-01-28 21:37:55 -0000 (Tue, 28 Jan 2025) EllapsedTime: 55.0 seconds RetCode: 0 Status: OK PackageFile: CCPlotR_1.5.0.tar.gz PackageFileSize: 3.37 MiB