Package: CCPlotR Version: 1.5.0 Command: /home/biocbuild/R/R/bin/R CMD INSTALL CCPlotR StartedAt: 2025-01-29 20:01:51 -0000 (Wed, 29 Jan 2025) EndedAt: 2025-01-29 20:02:07 -0000 (Wed, 29 Jan 2025) EllapsedTime: 15.9 seconds RetCode: 0 Status: OK