Package: CCPlotR Version: 1.5.0 Command: /Library/Frameworks/R.framework/Resources/bin/R CMD build --keep-empty-dirs --no-resave-data CCPlotR StartedAt: 2025-02-03 16:14:05 -0500 (Mon, 03 Feb 2025) EndedAt: 2025-02-03 16:14:40 -0500 (Mon, 03 Feb 2025) EllapsedTime: 34.4 seconds RetCode: 0 Status: OK PackageFile: CCPlotR_1.5.0.tar.gz PackageFileSize: 4.889 MiB