Package: CCPlotR Version: 1.5.0 Command: /Library/Frameworks/R.framework/Resources/bin/R CMD check --install=check:CCPlotR.install-out.txt --library=/Library/Frameworks/R.framework/Resources/library --no-vignettes --timings CCPlotR_1.5.0.tar.gz StartedAt: 2025-02-03 19:27:19 -0500 (Mon, 03 Feb 2025) EndedAt: 2025-02-03 19:29:06 -0500 (Mon, 03 Feb 2025) EllapsedTime: 106.8 seconds RetCode: 0 Status: OK CheckDir: CCPlotR.Rcheck Warnings: 0