Package: CCPlotR Version: 1.5.0 Command: /home/biocbuild/bbs-3.21-bioc/R/bin/R CMD check --install=check:CCPlotR.install-out.txt --library=/home/biocbuild/bbs-3.21-bioc/R/site-library --timings CCPlotR_1.5.0.tar.gz StartedAt: 2025-02-09 20:43:04 -0500 (Sun, 09 Feb 2025) EndedAt: 2025-02-09 20:44:52 -0500 (Sun, 09 Feb 2025) EllapsedTime: 108.1 seconds RetCode: 0 Status: OK CheckDir: CCPlotR.Rcheck Warnings: 0