Package: CCPlotR Version: 1.5.0 Command: /home/biocbuild/bbs-3.21-bioc/R/bin/R CMD INSTALL CCPlotR StartedAt: 2025-02-09 15:14:28 -0500 (Sun, 09 Feb 2025) EndedAt: 2025-02-09 15:14:40 -0500 (Sun, 09 Feb 2025) EllapsedTime: 11.8 seconds RetCode: 0 Status: OK