Package: CCPlotR Version: 1.5.0 Command: rm -rf CCPlotR.buildbin-libdir && mkdir CCPlotR.buildbin-libdir && E:\biocbuild\bbs-3.21-bioc\R\bin\R.exe CMD INSTALL --build --library=CCPlotR.buildbin-libdir CCPlotR_1.5.0.tar.gz StartedAt: 2025-02-10 07:23:39 -0500 (Mon, 10 Feb 2025) EndedAt: 2025-02-10 07:24:00 -0500 (Mon, 10 Feb 2025) EllapsedTime: 20.5 seconds RetCode: 0 Status: OK PackageFile: CCPlotR_1.5.0.zip PackageFileSize: 961 KiB