Package: CCPlotR Version: 1.5.0 Command: chmod a+r CCPlotR -R && E:\biocbuild\bbs-3.21-bioc\R\bin\R.exe CMD build --keep-empty-dirs --no-resave-data CCPlotR StartedAt: 2025-02-04 17:39:27 -0500 (Tue, 04 Feb 2025) EndedAt: 2025-02-04 17:40:20 -0500 (Tue, 04 Feb 2025) EllapsedTime: 53.1 seconds RetCode: 0 Status: OK PackageFile: CCPlotR_1.5.0.tar.gz PackageFileSize: 3.122 MiB