Package: CCPlotR Version: 1.5.0 Command: E:\biocbuild\bbs-3.21-bioc\R\bin\R.exe CMD check --no-multiarch --install=check:CCPlotR.install-out.txt --library=E:\biocbuild\bbs-3.21-bioc\R\library --no-vignettes --timings CCPlotR_1.5.0.tar.gz StartedAt: 2025-02-04 23:52:40 -0500 (Tue, 04 Feb 2025) EndedAt: 2025-02-04 23:54:43 -0500 (Tue, 04 Feb 2025) EllapsedTime: 122.5 seconds RetCode: 0 Status: OK CheckDir: CCPlotR.Rcheck Warnings: 0