Package: CEMiTool Version: 1.31.0 Command: rm -rf CEMiTool.buildbin-libdir && mkdir CEMiTool.buildbin-libdir && /Users/biocbuild/BBS/utils/build-universal.sh CEMiTool_1.31.0.tar.gz /Library/Frameworks/R.framework/Resources/bin/R CEMiTool.buildbin-libdir StartedAt: 2025-02-09 22:08:48 -0500 (Sun, 09 Feb 2025) EndedAt: 2025-02-09 22:09:00 -0500 (Sun, 09 Feb 2025) EllapsedTime: 12.2 seconds RetCode: 0 Status: OK PackageFile: CEMiTool_1.31.0.tgz PackageFileSize: 6.16 MiB