Package: CEMiTool Version: 1.31.0 Command: /Library/Frameworks/R.framework/Resources/bin/R CMD INSTALL CEMiTool StartedAt: 2025-02-09 15:34:04 -0500 (Sun, 09 Feb 2025) EndedAt: 2025-02-09 15:34:41 -0500 (Sun, 09 Feb 2025) EllapsedTime: 37.2 seconds RetCode: 0 Status: OK