Package: CEMiTool Version: 1.31.0 Command: rm -rf CEMiTool.buildbin-libdir && mkdir CEMiTool.buildbin-libdir && E:\biocbuild\bbs-3.21-bioc\R\bin\R.exe CMD INSTALL --build --library=CEMiTool.buildbin-libdir CEMiTool_1.31.0.tar.gz StartedAt: 2025-02-05 07:37:12 -0500 (Wed, 05 Feb 2025) EndedAt: 2025-02-05 07:38:25 -0500 (Wed, 05 Feb 2025) EllapsedTime: 73.0 seconds RetCode: 0 Status: OK PackageFile: CEMiTool_1.31.0.zip PackageFileSize: 5.064 MiB