Package: CEMiTool Version: 1.31.0 Command: chmod a+r CEMiTool -R && E:\biocbuild\bbs-3.21-bioc\R\bin\R.exe CMD build --keep-empty-dirs --no-resave-data CEMiTool StartedAt: 2025-02-04 17:42:28 -0500 (Tue, 04 Feb 2025) EndedAt: 2025-02-04 17:57:32 -0500 (Tue, 04 Feb 2025) EllapsedTime: 903.6 seconds RetCode: 0 Status: OK PackageFile: CEMiTool_1.31.0.tar.gz PackageFileSize: 4.554 MiB