Package: CEMiTool Version: 1.31.0 Command: E:\biocbuild\bbs-3.21-bioc\R\bin\R.exe CMD check --no-multiarch --install=check:CEMiTool.install-out.txt --library=E:\biocbuild\bbs-3.21-bioc\R\library --no-vignettes --timings CEMiTool_1.31.0.tar.gz StartedAt: 2025-02-04 23:56:55 -0500 (Tue, 04 Feb 2025) EndedAt: 2025-02-05 00:02:20 -0500 (Wed, 05 Feb 2025) EllapsedTime: 325.0 seconds RetCode: 0 Status: OK CheckDir: CEMiTool.Rcheck Warnings: 0