Package: CFAssay Version: 1.41.0 Maintainer: Herbert Braselmann MaintainerEmail: hbraselmann at online.de git_url: https://git.bioconductor.org/packages/CFAssay git_branch: devel git_last_commit: c9b6501 git_last_commit_date: 2024-10-29 09:56:36 -0500 (Tue, 29 Oct 2024)