Package: CFAssay Version: 1.41.0 Command: /Library/Frameworks/R.framework/Resources/bin/R CMD check --install=check:CFAssay.install-out.txt --library=/Library/Frameworks/R.framework/Resources/library --no-vignettes --timings CFAssay_1.41.0.tar.gz StartedAt: 2025-02-09 18:28:18 -0500 (Sun, 09 Feb 2025) EndedAt: 2025-02-09 18:28:29 -0500 (Sun, 09 Feb 2025) EllapsedTime: 11.1 seconds RetCode: 0 Status: OK CheckDir: CFAssay.Rcheck Warnings: 0