Package: CFAssay Version: 1.41.0 Command: /Library/Frameworks/R.framework/Resources/bin/R CMD INSTALL CFAssay StartedAt: 2025-02-09 15:03:56 -0500 (Sun, 09 Feb 2025) EndedAt: 2025-02-09 15:04:00 -0500 (Sun, 09 Feb 2025) EllapsedTime: 3.1 seconds RetCode: 0 Status: OK