Package: CFAssay Version: 1.41.0 Command: /home/biocbuild/R/R/bin/R CMD build --keep-empty-dirs --no-resave-data CFAssay StartedAt: 2025-01-28 21:43:48 -0000 (Tue, 28 Jan 2025) EndedAt: 2025-01-28 21:43:55 -0000 (Tue, 28 Jan 2025) EllapsedTime: 7.0 seconds RetCode: 0 Status: OK PackageFile: CFAssay_1.41.0.tar.gz PackageFileSize: 326.3 KiB