Package: CFAssay Version: 1.41.0 Command: /home/biocbuild/R/R/bin/R CMD INSTALL CFAssay StartedAt: 2025-01-29 19:36:36 -0000 (Wed, 29 Jan 2025) EndedAt: 2025-01-29 19:37:01 -0000 (Wed, 29 Jan 2025) EllapsedTime: 25.0 seconds RetCode: 0 Status: OK