Package: CFAssay Version: 1.41.0 Command: rm -rf CFAssay.buildbin-libdir && mkdir CFAssay.buildbin-libdir && /Users/biocbuild/BBS/utils/build-universal.sh CFAssay_1.41.0.tar.gz /Library/Frameworks/R.framework/Resources/bin/R CFAssay.buildbin-libdir StartedAt: 2025-02-10 00:45:57 -0500 (Mon, 10 Feb 2025) EndedAt: 2025-02-10 00:46:02 -0500 (Mon, 10 Feb 2025) EllapsedTime: 5.8 seconds RetCode: 0 Status: OK PackageFile: CFAssay_1.41.0.tgz PackageFileSize: 399.1 KiB