Package: CFAssay Version: 1.41.0 Command: /home/biocbuild/bbs-3.21-bioc/R/bin/R CMD build --keep-empty-dirs --no-resave-data CFAssay StartedAt: 2025-02-09 16:36:15 -0500 (Sun, 09 Feb 2025) EndedAt: 2025-02-09 16:36:22 -0500 (Sun, 09 Feb 2025) EllapsedTime: 7.0 seconds RetCode: 0 Status: OK PackageFile: CFAssay_1.41.0.tar.gz PackageFileSize: 322.8 KiB