Package: CFAssay Version: 1.41.0 Command: /home/biocbuild/bbs-3.21-bioc/R/bin/R CMD check --install=check:CFAssay.install-out.txt --library=/home/biocbuild/bbs-3.21-bioc/R/site-library --timings CFAssay_1.41.0.tar.gz StartedAt: 2025-02-09 20:49:34 -0500 (Sun, 09 Feb 2025) EndedAt: 2025-02-09 20:49:55 -0500 (Sun, 09 Feb 2025) EllapsedTime: 21.0 seconds RetCode: 0 Status: OK CheckDir: CFAssay.Rcheck Warnings: 0