Package: CFAssay Version: 1.41.0 Command: chmod a+r CFAssay -R && E:\biocbuild\bbs-3.21-bioc\R\bin\R.exe CMD build --keep-empty-dirs --no-resave-data CFAssay StartedAt: 2025-02-12 17:49:24 -0500 (Wed, 12 Feb 2025) EndedAt: 2025-02-12 17:49:48 -0500 (Wed, 12 Feb 2025) EllapsedTime: 23.8 seconds RetCode: 0 Status: OK PackageFile: CFAssay_1.41.0.tar.gz PackageFileSize: 193.8 KiB