Package: CFAssay Version: 1.41.0 Command: E:\biocbuild\bbs-3.21-bioc\R\bin\R.exe CMD check --no-multiarch --install=check:CFAssay.install-out.txt --library=E:\biocbuild\bbs-3.21-bioc\R\library --no-vignettes --timings CFAssay_1.41.0.tar.gz StartedAt: 2025-02-09 23:32:07 -0500 (Sun, 09 Feb 2025) EndedAt: 2025-02-09 23:32:36 -0500 (Sun, 09 Feb 2025) EllapsedTime: 28.9 seconds RetCode: 0 Status: OK CheckDir: CFAssay.Rcheck Warnings: 0