Package: CFAssay Version: 1.41.0 Command: E:\biocbuild\bbs-3.21-bioc\R\bin\R.exe CMD INSTALL CFAssay StartedAt: 2025-02-09 15:30:24 -0500 (Sun, 09 Feb 2025) EndedAt: 2025-02-09 15:30:42 -0500 (Sun, 09 Feb 2025) EllapsedTime: 17.6 seconds RetCode: 0 Status: OK