Package: CGHbase Version: 1.67.0 Command: /Library/Frameworks/R.framework/Resources/bin/R CMD build --keep-empty-dirs --no-resave-data CGHbase StartedAt: 2025-02-09 16:14:12 -0500 (Sun, 09 Feb 2025) EndedAt: 2025-02-09 16:14:13 -0500 (Sun, 09 Feb 2025) EllapsedTime: 1.2 seconds RetCode: 0 Status: OK PackageFile: CGHbase_1.67.0.tar.gz PackageFileSize: 848 KiB