Package: CGHbase Version: 1.67.0 Command: rm -rf CGHbase.buildbin-libdir && mkdir CGHbase.buildbin-libdir && E:\biocbuild\bbs-3.21-bioc\R\bin\R.exe CMD INSTALL --build --library=CGHbase.buildbin-libdir CGHbase_1.67.0.tar.gz StartedAt: 2025-02-10 07:25:15 -0500 (Mon, 10 Feb 2025) EndedAt: 2025-02-10 07:25:52 -0500 (Mon, 10 Feb 2025) EllapsedTime: 37.3 seconds RetCode: 0 Status: OK PackageFile: CGHbase_1.67.0.zip PackageFileSize: 1.059 MiB