Package: CGHbase Version: 1.67.0 Command: E:\biocbuild\bbs-3.21-bioc\R\bin\R.exe CMD INSTALL CGHbase StartedAt: 2025-02-09 15:29:26 -0500 (Sun, 09 Feb 2025) EndedAt: 2025-02-09 15:29:58 -0500 (Sun, 09 Feb 2025) EllapsedTime: 32.0 seconds RetCode: 0 Status: OK