Package: CGHregions Version: 1.65.0 Command: /Library/Frameworks/R.framework/Resources/bin/R CMD build --keep-empty-dirs --no-resave-data CGHregions StartedAt: 2025-02-09 16:14:23 -0500 (Sun, 09 Feb 2025) EndedAt: 2025-02-09 16:14:38 -0500 (Sun, 09 Feb 2025) EllapsedTime: 14.9 seconds RetCode: 0 Status: OK PackageFile: CGHregions_1.65.0.tar.gz PackageFileSize: 213 KiB