Package: CGHregions Version: 1.65.0 Command: /home/biocbuild/bbs-3.21-bioc/R/bin/R CMD INSTALL CGHregions StartedAt: 2025-02-09 15:14:41 -0500 (Sun, 09 Feb 2025) EndedAt: 2025-02-09 15:14:45 -0500 (Sun, 09 Feb 2025) EllapsedTime: 4.1 seconds RetCode: 0 Status: OK