Package: CGHregions Version: 1.65.0 Command: chmod a+r CGHregions -R && E:\biocbuild\bbs-3.21-bioc\R\bin\R.exe CMD build --keep-empty-dirs --no-resave-data CGHregions StartedAt: 2025-02-12 17:50:10 -0500 (Wed, 12 Feb 2025) EndedAt: 2025-02-12 17:50:28 -0500 (Wed, 12 Feb 2025) EllapsedTime: 17.8 seconds RetCode: 0 Status: OK PackageFile: CGHregions_1.65.0.tar.gz PackageFileSize: 100.2 KiB