Package: CGHregions Version: 1.65.0 Command: E:\biocbuild\bbs-3.21-bioc\R\bin\R.exe CMD INSTALL CGHregions StartedAt: 2025-02-12 15:30:50 -0500 (Wed, 12 Feb 2025) EndedAt: 2025-02-12 15:31:09 -0500 (Wed, 12 Feb 2025) EllapsedTime: 18.3 seconds RetCode: 0 Status: OK