Package: CHRONOS Version: 1.35.0 Command: /Library/Frameworks/R.framework/Resources/bin/R CMD INSTALL CHRONOS StartedAt: 2025-02-12 15:26:54 -0500 (Wed, 12 Feb 2025) EndedAt: 2025-02-12 15:27:02 -0500 (Wed, 12 Feb 2025) EllapsedTime: 8.5 seconds RetCode: 0 Status: OK