Package: CHRONOS Version: 1.35.0 Command: /home/biocbuild/R/R/bin/R CMD build --keep-empty-dirs --no-resave-data CHRONOS StartedAt: 2025-01-28 21:51:06 -0000 (Tue, 28 Jan 2025) EndedAt: 2025-01-28 21:53:28 -0000 (Tue, 28 Jan 2025) EllapsedTime: 141.4 seconds RetCode: 1 Status: ERROR PackageFile: None PackageFileSize: NA