Package: CHRONOS Version: 1.35.0 Command: rm -rf CHRONOS.buildbin-libdir && mkdir CHRONOS.buildbin-libdir && /Users/biocbuild/BBS/utils/build-universal.sh CHRONOS_1.35.0.tar.gz /Library/Frameworks/R.framework/Resources/bin/R CHRONOS.buildbin-libdir StartedAt: 2025-02-10 00:46:32 -0500 (Mon, 10 Feb 2025) EndedAt: 2025-02-10 00:47:02 -0500 (Mon, 10 Feb 2025) EllapsedTime: 30.9 seconds RetCode: 0 Status: OK PackageFile: CHRONOS_1.35.0.tgz PackageFileSize: 1.302 MiB