Package: CHRONOS Version: 1.35.0 Command: /Library/Frameworks/R.framework/Resources/bin/R CMD build --keep-empty-dirs --no-resave-data CHRONOS StartedAt: 2025-02-09 16:16:45 -0500 (Sun, 09 Feb 2025) EndedAt: 2025-02-09 16:17:24 -0500 (Sun, 09 Feb 2025) EllapsedTime: 38.9 seconds RetCode: 0 Status: OK PackageFile: CHRONOS_1.35.0.tar.gz PackageFileSize: 1.118 MiB