Package: CHRONOS Version: 1.35.0 Command: /home/biocbuild/bbs-3.21-bioc/R/bin/R CMD check --install=check:CHRONOS.install-out.txt --library=/home/biocbuild/bbs-3.21-bioc/R/site-library --timings CHRONOS_1.35.0.tar.gz StartedAt: 2025-02-09 20:55:23 -0500 (Sun, 09 Feb 2025) EndedAt: 2025-02-09 20:58:09 -0500 (Sun, 09 Feb 2025) EllapsedTime: 166.2 seconds RetCode: 0 Status: OK CheckDir: CHRONOS.Rcheck Warnings: 0