Package: CHRONOS Version: 1.35.0 Command: E:\biocbuild\bbs-3.21-bioc\R\bin\R.exe CMD check --no-multiarch --install=check:CHRONOS.install-out.txt --library=E:\biocbuild\bbs-3.21-bioc\R\library --no-vignettes --timings CHRONOS_1.35.0.tar.gz StartedAt: 2025-02-12 23:47:08 -0500 (Wed, 12 Feb 2025) EndedAt: 2025-02-12 23:50:30 -0500 (Wed, 12 Feb 2025) EllapsedTime: 202.0 seconds RetCode: 0 Status: OK CheckDir: CHRONOS.Rcheck Warnings: 0