Package: CMA Version: 1.65.0 Command: rm -rf CMA.buildbin-libdir && mkdir CMA.buildbin-libdir && /Users/biocbuild/BBS/utils/build-universal.sh CMA_1.65.0.tar.gz /Library/Frameworks/R.framework/Resources/bin/R CMA.buildbin-libdir StartedAt: 2025-02-04 22:11:42 -0500 (Tue, 04 Feb 2025) EndedAt: 2025-02-04 22:11:48 -0500 (Tue, 04 Feb 2025) EllapsedTime: 6.2 seconds RetCode: 0 Status: OK PackageFile: CMA_1.65.0.tgz PackageFileSize: 1.904 MiB