Package: CMA Version: 1.65.0 Command: /Library/Frameworks/R.framework/Resources/bin/R CMD INSTALL CMA StartedAt: 2025-02-09 15:01:19 -0500 (Sun, 09 Feb 2025) EndedAt: 2025-02-09 15:01:25 -0500 (Sun, 09 Feb 2025) EllapsedTime: 5.8 seconds RetCode: 0 Status: OK