Package: CMA Version: 1.65.0 Command: /home/biocbuild/R/R/bin/R CMD check --install=check:CMA.install-out.txt --library=/home/biocbuild/R/R/site-library --no-vignettes --timings CMA_1.65.0.tar.gz StartedAt: 2025-01-28 09:17:31 -0000 (Tue, 28 Jan 2025) EndedAt: 2025-01-28 09:18:35 -0000 (Tue, 28 Jan 2025) EllapsedTime: 64.0 seconds RetCode: 0 Status: OK CheckDir: CMA.Rcheck Warnings: 0