Package: CMA Version: 1.65.0 Command: /Library/Frameworks/R.framework/Resources/bin/R CMD check --install=check:CMA.install-out.txt --library=/Library/Frameworks/R.framework/Resources/library --no-vignettes --timings CMA_1.65.0.tar.gz StartedAt: 2025-02-04 19:38:19 -0500 (Tue, 04 Feb 2025) EndedAt: 2025-02-04 19:39:27 -0500 (Tue, 04 Feb 2025) EllapsedTime: 68.7 seconds RetCode: 0 Status: OK CheckDir: CMA.Rcheck Warnings: 0