Package: CMA Version: 1.65.0 Command: E:\biocbuild\bbs-3.21-bioc\R\bin\R.exe CMD check --no-multiarch --install=check:CMA.install-out.txt --library=E:\biocbuild\bbs-3.21-bioc\R\library --no-vignettes --timings CMA_1.65.0.tar.gz StartedAt: 2025-02-09 23:45:59 -0500 (Sun, 09 Feb 2025) EndedAt: 2025-02-09 23:47:17 -0500 (Sun, 09 Feb 2025) EllapsedTime: 78.5 seconds RetCode: 0 Status: OK CheckDir: CMA.Rcheck Warnings: 0