Package: CNORdt Version: 1.49.0 Command: rm -rf CNORdt.buildbin-libdir && mkdir CNORdt.buildbin-libdir && /Users/biocbuild/BBS/utils/build-universal.sh CNORdt_1.49.0.tar.gz /Library/Frameworks/R.framework/Resources/bin/R CNORdt.buildbin-libdir StartedAt: 2025-02-09 22:09:49 -0500 (Sun, 09 Feb 2025) EndedAt: 2025-02-09 22:09:55 -0500 (Sun, 09 Feb 2025) EllapsedTime: 5.1 seconds RetCode: 0 Status: OK PackageFile: CNORdt_1.49.0.tgz PackageFileSize: 327 KiB