Package: CNORdt Version: 1.49.0 Command: /Library/Frameworks/R.framework/Resources/bin/R CMD INSTALL CNORdt StartedAt: 2025-02-04 15:15:14 -0500 (Tue, 04 Feb 2025) EndedAt: 2025-02-04 15:15:18 -0500 (Tue, 04 Feb 2025) EllapsedTime: 4.2 seconds RetCode: 0 Status: OK