Package: CNORdt Version: 1.49.0 Command: /home/biocbuild/R/R/bin/R CMD build --keep-empty-dirs --no-resave-data CNORdt StartedAt: 2025-01-28 21:58:51 -0000 (Tue, 28 Jan 2025) EndedAt: 2025-01-28 21:59:37 -0000 (Tue, 28 Jan 2025) EllapsedTime: 46.0 seconds RetCode: 0 Status: OK PackageFile: CNORdt_1.49.0.tar.gz PackageFileSize: 311 KiB