Package: CNORdt Version: 1.49.0 Command: /Library/Frameworks/R.framework/Resources/bin/R CMD build --keep-empty-dirs --no-resave-data CNORdt StartedAt: 2025-02-09 16:19:33 -0500 (Sun, 09 Feb 2025) EndedAt: 2025-02-09 16:20:23 -0500 (Sun, 09 Feb 2025) EllapsedTime: 50.3 seconds RetCode: 0 Status: OK PackageFile: CNORdt_1.49.0.tar.gz PackageFileSize: 319.2 KiB