Package: CNORdt Version: 1.49.0 Command: /home/biocbuild/bbs-3.21-bioc/R/bin/R CMD build --keep-empty-dirs --no-resave-data CNORdt StartedAt: 2025-02-04 16:40:01 -0500 (Tue, 04 Feb 2025) EndedAt: 2025-02-04 16:40:44 -0500 (Tue, 04 Feb 2025) EllapsedTime: 43.0 seconds RetCode: 0 Status: OK PackageFile: CNORdt_1.49.0.tar.gz PackageFileSize: 319.3 KiB