Package: CNORdt Version: 1.49.0 Command: /home/biocbuild/bbs-3.21-bioc/R/bin/R CMD check --install=check:CNORdt.install-out.txt --library=/home/biocbuild/bbs-3.21-bioc/R/site-library --timings CNORdt_1.49.0.tar.gz StartedAt: 2025-02-04 21:01:13 -0500 (Tue, 04 Feb 2025) EndedAt: 2025-02-04 21:03:35 -0500 (Tue, 04 Feb 2025) EllapsedTime: 142.2 seconds RetCode: 0 Status: OK CheckDir: CNORdt.Rcheck Warnings: 0