Package: CNORdt Version: 1.49.0 Command: chmod a+r CNORdt -R && E:\biocbuild\bbs-3.21-bioc\R\bin\R.exe CMD build --keep-empty-dirs --no-resave-data CNORdt StartedAt: 2025-02-09 17:56:47 -0500 (Sun, 09 Feb 2025) EndedAt: 2025-02-09 17:57:41 -0500 (Sun, 09 Feb 2025) EllapsedTime: 53.4 seconds RetCode: 0 Status: OK PackageFile: CNORdt_1.49.0.tar.gz PackageFileSize: 203.9 KiB